BEGIN:VCALENDAR
VERSION:2.0
BEGIN:VEVENT
UID:332C5414-30F6-4CF5-ABE3-A741CEE60159
DTSTART:20241204T120000Z
DTEND:20241215T120000Z
SUMMARY:Christmas Tea at The Alexander Mansion
DESCRIPTION:2024 Christmas Tea at the Alexander Mansion \n \n \n   Christma
 s Tea at the Alexander Mansion \n  \nStep into the magic of the holiday se
 ason with a festive afternoon tea at The Dallas Woman’s Forum. The histori
 c Alexander Mansion\, dressed in its finest holiday decor\, invites you to
  enjoy a timeless tradition filled with warmth and elegance. As you walk t
 hrough the mansion\, you’ll be greeted by the twinkle of lights and the sc
 ent of fresh greenery\, setting the perfect backdrop for an afternoon of i
 ndulgence. \nRelax in the mansion’s beautifully transformed tearoom\, wher
 e you can savor a selection of delicate sweets\, delectable treats\, and f
 ine teas\, all served on vintage china. For a touch of sparkle\, enjoy a g
 lass of bubbly champagne as you take in the festive atmosphere. \nThis che
 rished event has become a beloved tradition for many families\, offering a
  moment of joy and connection during the busy holiday season. Best of all\
 , your participation helps support the preservation of the Alexander Mansi
 on\, ensuring that this historic gem continues to be a part of Dallas’ her
 itage for years to come. \n … Dates Wednesday\, December 4 – Sunday\, Dece
 mber 8\, 2024 Wednesday\, December 11 – Sunday\, December 15\, 2024 One se
 ating at 12:00 noon daily … Location Alexander Mansion 4607 Ross Ave\, Dal
 las\, Texas Free parking is provided behind the mansion off of Annex Stree
 t \n … \n … Reservations Reservations Required Tea\, Champagne\, and Gratu
 ity Included Gluten free tea or vegetarian tea substitution for an additio
 nal $5.00\, limit one per guest \n … Please note we have new reservation o
 ptions this year! \n … VIP Christmas Tea and Mansion Tour December 7th and
  8th only $100.00 per guest \nIn addition to the Christmas Tea\, you will
  enjoy a tour of the Mansion by one of our Dallas Woman’s Forum Member tou
 r docents. You will learn about the history of the Alexander Mansion and t
 he families who lived there. The tour will start before the tea\, at 11:15
  am. VIP ticket holders will also take home a goodie bag with tea themed g
 ifts. Christmas Tea $75.00 per guest \nSelect the desired date from the dr
 op down menu below. Member Discount Day Christmas Tea December 4th only $3
 5.00 per member \nThis reservation is only available for current DWF membe
 rs on December 4th. If you have non-members in your party\, please purchas
 e their reservations separately. Member status will be confirmed. If you a
 re not a current member of the Dallas Woman’s Forum\, your reservation wil
 l be cancelled. \n * * * \n Menu \n Savories \n Chicken Salad Tea Sandwich
  Egg and Chive Tea Sandwich Pimento Olive Tea Sandwich Caprese Quiche Crea
 my Cucumber Bites with Tomato Garnish Homemade Crostini with Red Pepper Hu
 mmus Demi Tomato Basil Soup \n Scone \n White Chocolate  Cranberry  Scone
  with clotted cream \n Sweets \n Peppermint Bark Brown Bits Holiday French
  Macaroon White Snowballs with Holiday Sprinkles \n Tea \n Selected loose
  leaf tea paired with each course including \n Carmel Almond Bliss (Privat
 e Label of The Dallas Woman’s Forum) \n Dietary Substitutions \nGluten fre
 e and Vegetarian substitutions requests are available for an additional $5
 .00 per guest. Substitutions must be requested at time of reservation. You
  will need to notify the wait staff at the Tea. \n * ** Important Notes ab
 out Reservations \nChildren over age 4 are welcome. Please make other arra
 ngements for small children\, we cannot accommodate strollers or baby carr
 iers. \nYou will  NOT  receive tickets in the mail. \nYour confirmation of
  purchase will be your receipt delivered to your email address. \nPlease m
 ake sure your phone and email address are correct upon check out. \nCheck
  your spam/junk email folder if you do not see a confirmation email in you
 r inbox. \n … Reservation Cancellations and Refund Policy \nAll purchases
  are final. No refunds will be issued. \nYour reservation is transferable
  to another person. Please contact us to change the name on the reservatio
 n. \nTo transfer your reservation to another name\, send an email to  rese
 rvations@dallaswomansforum.org . \n … Accessibility Notice \nIf someone in
  your group uses a wheelchair or other mobility assistive device\, please
  email  reservations@dallaswomansforum.org  at the time the reservation fo
 r the tea is made to let us know. We will then be able to seat your group
  at a more easily accessed table and we will be ready to assist upon your
  arrival for tea. * * * Reservations - https://dallaswomansforum.org/the-m
 ansion/rentals/social-events/   VIP Christmas Tea and Mansion Tour Reserva
 tions December 7th and 8th only\nThe Alexander Mansion\n4607 Ross Ave\nDal
 las\, TX 75204 United States\n
LOCATION:4607 Ross Ave\, Dallas\, TX 75204
URL:http://carrollton.bubblelife.com/community/carrollton_calendar/library/
 35671122/key/3511888002/Christmas_Tea_at_The_Alexander_Mansion
CREATED:20241104T214131Z
LAST-MODIFIED:20241104T214131Z
DTSTAMP:20260422T122114Z
RRULE:FREQ=WEEKLY;WKST=WE;BYDAY=SU,WE,TH,FR,SA
CLASS:PUBLIC
STATUS:CONFIRMED
TRANSP:TRANSPARENT
SEQUENCE:1
END:VEVENT
END:VCALENDAR
